Workbook

Sheet 🏠 Dashboard
A1: 2
B2: SubscriptionOS — Subscription Control Dashboard | C2: SubscriptionOS — Subscription Control Dashboard | D2: SubscriptionOS — Subscription Control Dashboard | E2: SubscriptionOS — Subscription Control Dashboard | F2: SubscriptionOS — Subscription Control Dashboard | G2: SubscriptionOS — Subscription Control Dashboard | H2: SubscriptionOS — Subscription Control Dashboard | I2: SubscriptionOS — Subscription Control Dashboard | J2: SubscriptionOS — Subscription Control Dashboard | K2: SubscriptionOS — Subscription Control Dashboard | L2: SubscriptionOS — Subscription Control Dashboard | M2: SubscriptionOS — Subscription Control Dashboard | N2: SubscriptionOS — Subscription Control Dashboard | O2: ='⚙️ Settings'!$C$6&" • "&TEXT('⚙️ Settings'!$C$7,"mmm d, yyyy") -> USD • May 25, 2026
B3: Track • Optimize • Forecast • Save | C3: Track • Optimize • Forecast • Save | D3: Track • Optimize • Forecast • Save | E3: Track • Optimize • Forecast • Save | F3: Track • Optimize • Forecast • Save | G3: Track • Optimize • Forecast • Save | H3: Track • Optimize • Forecast • Save | I3: Track • Optimize • Forecast • Save | J3: Track • Optimize • Forecast • Save | K3: Track • Optimize • Forecast • Save | L3: Track • Optimize • Forecast • Save | M3: Track • Optimize • Forecast • Save | N3: Track • Optimize • Forecast • Save | O3: =COUNTIFS('📦 Subscriptions'!$J$6:$J$205,"Active")&" active services • "&COUNTIFS('📦 Subscriptions'!$J$6:$J$205,"Active",'📦 Subscriptions'!$I$6:$I$205,">="&'⚙️ Settings'!$C$7,'📦 Subscriptions'!$I$6:$I$205,"<="&'⚙️ Settings'!$C$7+'⚙️ Settings'!$C$8)&" renewals in "&'⚙️ Settings'!$C$8&" days" -> 11 active services • 9 renewals in 45 days
B6: Total Monthly Cost | C6: Total Monthly Cost | D6: Total Monthly Cost | E6: Total Monthly Cost | G6: Annual Subscription Cost | H6: Annual Subscription Cost | I6: Annual Subscription Cost | J6: Annual Subscription Cost | L6: Active Services | M6: Active Services | N6: Active Services | O6: Active Services | Q6: Upcoming Renewals | R6: Upcoming Renewals | S6: Upcoming Renewals | T6: Upcoming Renewals
B7: =ROUNDDOWN(SUMIFS('📦 Subscriptions'!$G$6:$G$205,'📦 Subscriptions'!$J$6:$J$205,"Active"),0) -> 182 | G7: =ROUND(SUMIFS('📦 Subscriptions'!$G$6:$G$205,'📦 Subscriptions'!$J$6:$J$205,"Active")*12,0) -> 2191 | L7: =COUNTIFS('📦 Subscriptions'!$J$6:$J$205,"Active") -> 11 | Q7: =COUNTIFS('📦 Subscriptions'!$J$6:$J$205,"Active",'📦 Subscriptions'!$I$6:$I$205,">="&'⚙️ Settings'!$C$7,'📦 Subscriptions'!$I$6:$I$205,"<="&'⚙️ Settings'!$C$7+'⚙️ Settings'!$C$8) -> 9
B10: ↗ +5% vs last month ▂▃▅▆█ | C10: ↗ +5% vs last month ▂▃▅▆█ | D10: ↗ +5% vs last month ▂▃▅▆█ | E10: ↗ +5% vs last month ▂▃▅▆█ | G10: Forecast line ▁▂▃▅▆ | H10: Forecast line ▁▂▃▅▆ | I10: Forecast line ▁▂▃▅▆ | J10: Forecast line ▁▂▃▅▆ | L10: Software • Cloud • Media ●●●●○○ | M10: Software • Cloud • Media ●●●●○○ | N10: Software • Cloud • Media ●●●●○○ | O10: Software • Cloud • Media ●●●●○○ | Q10: Next 45 days May ▬ Jun ▬ Jul | R10: Next 45 days May ▬ Jun ▬ Jul | S10: Next 45 days May ▬ Jun ▬ Jul | T10: Next 45 days May ▬ Jun ▬ Jul
B12: Subscription Cost Distribution | C12: Subscription Cost Distribution | D12: Subscription Cost Distribution | E12: Subscription Cost Distribution | F12: Subscription Cost Distribution | G12: Subscription Cost Distribution | H12: Subscription Cost Distribution | I12: Subscription Cost Distribution | J12: Subscription Cost Distribution | L12: Portfolio Health | M12: Portfolio Health | N12: Portfolio Health | O12: Portfolio Health | P12: Portfolio Health | Q12: Portfolio Health | R12: Portfolio Health | S12: Portfolio Health | T12: Portfolio Health
B13: Live allocation across active services | C13: Live allocation across active services | D13: Live allocation across active services | E13: Live allocation across active services | F13: Live allocation across active services | G13: Live allocation across active services | H13: Live allocation across active services | I13: Live allocation across active services | J13: Live allocation across active services | L13: Risk, efficiency and savings signals | M13: Risk, efficiency and savings signals | N13: Risk, efficiency and savings signals | O13: Risk, efficiency and savings signals | P13: Risk, efficiency and savings signals | Q13: Risk, efficiency and savings signals | R13: Risk, efficiency and savings signals | S13: Risk, efficiency and savings signals | T13: Risk, efficiency and savings signals
L14: Avg Subscription Price | M14: Avg Subscription Price | N14: Avg Subscription Price | O14: Avg Subscription Price | P14: Avg Subscription Price | Q14: Avg Subscription Price | R14: Avg Subscription Price | S14: Avg Subscription Price | T14: Avg Subscription Price
L15: =AVERAGEIF('📦 Subscriptions'!$J$6:$J$205,"Active",'📦 Subscriptions'!$G$6:$G$205) -> 16.598182
L16: ●●●●●●○○○○ | M16: ●●●●●●○○○○ | N16: ●●●●●●○○○○ | O16: ●●●●●●○○○○ | P16: ●●●●●●○○○○ | Q16: ●●●●●●○○○○ | R16: ●●●●●●○○○○ | S16: ●●●●●●○○○○ | T16: ●●●●●●○○○○
L19: Renewal Risk | M19: Renewal Risk | N19: Renewal Risk | O19: Renewal Risk | P19: Renewal Risk | Q19: Renewal Risk | R19: Renewal Risk | S19: Renewal Risk | T19: Renewal Risk
L20: ='🏠 Dashboard'!Q7/COUNTIFS('📦 Subscriptions'!$J$6:$J$205,"Active") -> 0.81818182
L21: ●●●●●●●●○○ | M21: ●●●●●●●●○○ | N21: ●●●●●●●●○○ | O21: ●●●●●●●●○○ | P21: ●●●●●●●●○○ | Q21: ●●●●●●●●○○ | R21: ●●●●●●●●○○ | S21: ●●●●●●●●○○ | T21: ●●●●●●●●○○
L24: Health Score | M24: Health Score | N24: Health Score | O24: Health Score | P24: Health Score | Q24: Health Score | R24: Health Score | S24: Health Score | T24: Health Score
L25: =82/100 -> 0.82
L26: ●●●●●●●●○○ | M26: ●●●●●●●●○○ | N26: ●●●●●●●●○○ | O26: ●●●●●●●●○○ | P26: ●●●●●●●●○○ | Q26: ●●●●●●●●○○ | R26: ●●●●●●●●○○ | S26: ●●●●●●●●○○ | T26: ●●●●●●●●○○
L29: Savings Potential | M29: Savings Potential | N29: Savings Potential | O29: Savings Potential | P29: Savings Potential | Q29: Savings Potential | R29: Savings Potential | S29: Savings Potential | T29: Savings Potential
L30: ='💡 Optimization'!$B$6/'🏠 Dashboard'!G7 -> #N/A
B31: Monthly Total | C31: Monthly Total | D31: Monthly Total | E31: =SUMIFS('📦 Subscriptions'!$G$6:$G$205,'📦 Subscriptions'!$J$6:$J$205,"Active") -> 182.58 | H31: =COUNTIFS('📦 Subscriptions'!$J$6:$J$205,"Active")&" active services" -> 11 active services | L31: ●●●○○○○○○○ | M31: ●●●○○○○○○○ | N31: ●●●○○○○○○○ | O31: ●●●○○○○○○○ | P31: ●●●○○○○○○○ | Q31: ●●●○○○○○○○ | R31: ●●●○○○○○○○ | S31: ●●●○○○○○○○ | T31: ●●●○○○○○○○
B32: Monthly Total | C32: Monthly Total | D32: Monthly Total
B33: Monthly Total | C33: Monthly Total | D33: Monthly Total
B35: Year Overview | C35: Year Overview | D35: Year Overview | E35: Year Overview | F35: Year Overview | G35: Year Overview | H35: Year Overview | I35: Year Overview | J35: Year Overview | K35: Year Overview | L35: Year Overview | M35: Year Overview | N35: Year Overview | O35: Year Overview | P35: Year Overview | Q35: Year Overview | R35: Year Overview | S35: Year Overview | T35: Year Overview
B37: Metric | C37: Jan | D37: Feb | E37: Mar | F37: Apr | G37: May | H37: Jun | I37: Jul | J37: Aug | K37: Sep | L37: Oct | M37: Nov | N37: Dec | O37: Variance
B38: Monthly Spend | C38: ='🗃️ Database'!F6 -> 174 | D38: ='🗃️ Database'!G6 -> 181 | E38: ='🗃️ Database'!H6 -> 185 | F38: ='🗃️ Database'!I6 -> 185 | G38: ='🗃️ Database'!J6 -> 194.58 | H38: ='🗃️ Database'!K6 -> 199 | I38: ='🗃️ Database'!L6 -> 202 | J38: ='🗃️ Database'!M6 -> 204 | ... N38: ='🗃️ Database'!Q6 -> 218 | O38: =IFERROR(IF(N38>=C38,CHAR(8599)&" +",CHAR(8600)&" -")&TEXT(ABS(N38/C38-1),"0%"),"")
B39: Annual Projection | C39: ='🗃️ Database'!F9 -> 2088 | D39: ='🗃️ Database'!G9 -> 2172 | E39: ='🗃️ Database'!H9 -> 2220 | F39: ='🗃️ Database'!I9 -> 2220 | G39: ='🗃️ Database'!J9 -> 2334.96 | H39: ='🗃️ Database'!K9 -> 2388 | I39: ='🗃️ Database'!L9 -> 2424 | J39: ='🗃️ Database'!M9 -> 2448 | ... N39: ='🗃️ Database'!Q9 -> 2616 | O39: =IFERROR(IF(N39-C39>=0,CHAR(8599)&" +",CHAR(8600)&" -")&TEXT(ABS(N39-C39),"$#,##0"),"")
B40: Savings | C40: ='🗃️ Database'!F10 -> 46 | D40: ='🗃️ Database'!G10 -> 52 | E40: ='🗃️ Database'!H10 -> 58 | F40: ='🗃️ Database'!I10 -> 61 | G40: ='🗃️ Database'!J10 -> 64 | H40: ='🗃️ Database'!K10 -> 66 | I40: ='🗃️ Database'!L10 -> 71 | J40: ='🗃️ Database'!M10 -> 74 | ... N40: ='🗃️ Database'!Q10 -> 88 | O40: =IFERROR(IF(N40-C40>=0,CHAR(8599)&" +",CHAR(8600)&" -")&TEXT(ABS(N40-C40),"$#,##0"),"")
B41: Renewals | C41: ='🗃️ Database'!F11 -> 1 | D41: ='🗃️ Database'!G11 -> 0 | E41: ='🗃️ Database'!H11 -> 0 | F41: ='🗃️ Database'!I11 -> 0 | G41: ='🗃️ Database'!J11 -> 0 | H41: ='🗃️ Database'!K11 -> 7 | I41: ='🗃️ Database'!L11 -> 2 | J41: ='🗃️ Database'!M11 -> 1 | ... N41: ='🗃️ Database'!Q11 -> 0 | O41: =IF(MAX(C41:N41)=0,"No renewals",INDEX($C$37:$N$37,1,MATCH(MAX(C41:N41),C41:N41,0))&" spike") -> Jun spike
B42: Optimization | C42: ='🗃️ Database'!F12 -> 72 | D42: ='🗃️ Database'!G12 -> 73 | E42: ='🗃️ Database'!H12 -> 75 | F42: ='🗃️ Database'!I12 -> 78 | G42: ='🗃️ Database'!J12 -> 82 | H42: ='🗃️ Database'!K12 -> 84 | I42: ='🗃️ Database'!L12 -> 85 | J42: ='🗃️ Database'!M12 -> 86 | ... N42: ='🗃️ Database'!Q12 -> 92 | O42: =IFERROR(IF(N42-C42>=0,CHAR(8599)&" +",CHAR(8600)&" -")&TEXT(ABS(N42-C42),"0")&" pts","")
B44: Legend | D44: Cool | F44: Stable | H44: High | J44: Review

Sheet 📦 Subscriptions
B2: Subscriptions | C2: Subscriptions | D2: Subscriptions | E2: Subscriptions | F2: Subscriptions | G2: Subscriptions | H2: Subscriptions | I2: Subscriptions | J2: Subscriptions | K2: Subscriptions | L2: Subscriptions | M2: Subscriptions | N2: Subscriptions
B3: Track active services, billing cadence, renewal dates, utilization, and action recommendations. | C3: Track active services, billing cadence, renewal dates, utilization, and action recommendations. | D3: Track active services, billing cadence, renewal dates, utilization, and action recommendations. | E3: Track active services, billing cadence, renewal dates, utilization, and action recommendations. | F3: Track active services, billing cadence, renewal dates, utilization, and action recommendations. | G3: Track active services, billing cadence, renewal dates, utilization, and action recommendations. | H3: Track active services, billing cadence, renewal dates, utilization, and action recommendations. | I3: Track active services, billing cadence, renewal dates, utilization, and action recommendations. | J3: Track active services, billing cadence, renewal dates, utilization, and action recommendations. | K3: Track active services, billing cadence, renewal dates, utilization, and action recommendations. | L3: Track active services, billing cadence, renewal dates, utilization, and action recommendations. | M3: Track active services, billing cadence, renewal dates, utilization, and action recommendations. | N3: Track active services, billing cadence, renewal dates, utilization, and action recommendations.
B5: Service | C5: Category | D5: Amount | E5: Currency | F5: Frequency | G5: Monthly USD | H5: Start | I5: Renewal | J5: Status | K5: Auto Renew | L5: Last Used | M5: Utilization | N5: Recommendation | O5: Notes
B6: 💠 Adobe Creative Cloud | C6: Software | D6: 59.99 | E6: USD | F6: Monthly | G6: =IF($B6="","",$D6*IFERROR(VLOOKUP($E6,'⚙️ Settings'!$B$15:$C$20,2,FALSE),1)*IF($F6="Monthly",1,IF($F6="Annual",1/12,IF($F6="Quarterly",1/3,IF($F6="Weekly",52/12,0))))) -> 59.99 | H6: 45662 | I6: 46175 | J6: Active | K6: Yes | L6: 46163 | M6: 0.84 | N6: Review | O6: Creative suite; review seat count before renewal.
B7: 🤖 ChatGPT Plus | C7: Software | D7: 20 | E7: USD | F7: Monthly | G7: =IF($B7="","",$D7*IFERROR(VLOOKUP($E7,'⚙️ Settings'!$B$15:$C$20,2,FALSE),1)*IF($F7="Monthly",1,IF($F7="Annual",1/12,IF($F7="Quarterly",1/3,IF($F7="Weekly",52/12,0))))) -> 20 | H7: 45979 | I7: 46182 | J7: Active | K7: Yes | L7: 46166 | M7: 0.93 | N7: Keep | O7: High utilization; core workflow subscription.
B8: 🎨 Figma Professional | C8: Productivity | D8: 20 | E8: USD | F8: Monthly | G8: =IF($B8="","",$D8*IFERROR(VLOOKUP($E8,'⚙️ Settings'!$B$15:$C$20,2,FALSE),1)*IF($F8="Monthly",1,IF($F8="Annual",1/12,IF($F8="Quarterly",1/3,IF($F8="Weekly",52/12,0))))) -> 20 | H8: 45871 | I8: 46185 | J8: Active | K8: Yes | L8: 46162 | M8: 0.67 | N8: Switch to Annual | O8: Annual billing may reduce design tool cost.
B9: 🧠 Notion Plus | C9: Productivity | D9: 10 | E9: USD | F9: Monthly | G9: =IF($B9="","",$D9*IFERROR(VLOOKUP($E9,'⚙️ Settings'!$B$15:$C$20,2,FALSE),1)*IF($F9="Monthly",1,IF($F9="Annual",1/12,IF($F9="Quarterly",1/3,IF($F9="Weekly",52/12,0))))) -> 10 | H9: 45728 | I9: 46190 | J9: Active | K9: Yes | L9: 46165 | M9: 0.78 | N9: Keep | O9: Documentation hub and planning workspace.
B10: ☁️ Dropbox Plus | C10: Cloud | D10: 143.88 | E10: USD | F10: Annual | G10: =IF($B10="","",$D10*IFERROR(VLOOKUP($E10,'⚙️ Settings'!$B$15:$C$20,2,FALSE),1)*IF($F10="Monthly",1,IF($F10="Annual",1/12,IF($F10="Quarterly",1/3,IF($F10="Weekly",52/12,0))))) -> 11.99 | H10: 45647 | I10: 46194 | J10: Active | K10: Yes | L10: 46160 | M10: 0.52 | N10: Downgrade | O10: Storage plan may be oversized.
B11: </> GitHub Copilot | C11: Software | D11: 10 | E11: USD | F11: Monthly | G11: =IF($B11="","",$D11*IFERROR(VLOOKUP($E11,'⚙️ Settings'!$B$15:$C$20,2,FALSE),1)*IF($F11="Monthly",1,IF($F11="Annual",1/12,IF($F11="Quarterly",1/3,IF($F11="Weekly",52/12,0))))) -> 10 | H11: 45811 | I11: 46198 | J11: Active | K11: Yes | L11: 46164 | M11: 0.88 | N11: Keep | O11: Developer productivity subscription.
B12: 🎬 Netflix | C12: Entertainment | D12: 15.49 | E12: USD | F12: Monthly | G12: =IF($B12="","",$D12*IFERROR(VLOOKUP($E12,'⚙️ Settings'!$B$15:$C$20,2,FALSE),1)*IF($F12="Monthly",1,IF($F12="Annual",1/12,IF($F12="Quarterly",1/3,IF($F12="Weekly",52/12,0))))) -> 15.49 | H12: 45910 | I12: 46202 | J12: Active | K12: Yes | L12: 46152 | M12: 0.48 | N12: Review | O12: Potential overlap with other entertainment services.
B13: 🎧 Spotify | C13: Entertainment | D13: 10.99 | E13: USD | F13: Monthly | G13: =IF($B13="","",$D13*IFERROR(VLOOKUP($E13,'⚙️ Settings'!$B$15:$C$20,2,FALSE),1)*IF($F13="Monthly",1,IF($F13="Annual",1/12,IF($F13="Quarterly",1/3,IF($F13="Weekly",52/12,0))))) -> 10.99 | H13: 45847 | I13: 46205 | J13: Active | K13: Yes | L13: 46165 | M13: 0.76 | N13: Keep | O13: Personal media subscription.
B14: ☁️ iCloud+ | C14: Cloud | D14: 2.99 | E14: USD | F14: Monthly | G14: =IF($B14="","",$D14*IFERROR(VLOOKUP($E14,'⚙️ Settings'!$B$15:$C$20,2,FALSE),1)*IF($F14="Monthly",1,IF($F14="Annual",1/12,IF($F14="Quarterly",1/3,IF($F14="Weekly",52/12,0))))) -> 2.99 | H14: 45748 | I14: 46208 | J14: Active | K14: Yes | L14: 46166 | M14: 0.96 | N14: Keep | O14: Low-cost storage layer.
B15: 🔐 NordVPN | C15: Utilities | D15: 71.88 | E15: USD | F15: Annual | G15: =IF($B15="","",$D15*IFERROR(VLOOKUP($E15,'⚙️ Settings'!$B$15:$C$20,2,FALSE),1)*IF($F15="Monthly",1,IF($F15="Annual",1/12,IF($F15="Quarterly",1/3,IF($F15="Weekly",52/12,0))))) -> 5.99 | H15: 45518 | I15: 46248 | J15: Active | K15: Yes | L15: 46130 | M15: 0.31 | N15: Cancel | O15: Low utilization; consider canceling before annual renewal.
B16: 🎓 Skillshare | C16: Education | D16: 181.68 | E16: USD | F16: Annual | G16: =IF($B16="","",$D16*IFERROR(VLOOKUP($E16,'⚙️ Settings'!$B$15:$C$20,2,FALSE),1)*IF($F16="Monthly",1,IF($F16="Annual",1/12,IF($F16="Quarterly",1/3,IF($F16="Weekly",52/12,0))))) -> 15.14 | H16: 45901 | I16: 46266 | J16: Active | K16: No | L16: 46109 | M16: 0.18 | N16: Cancel | O16: Unused learning subscription.
G18: =IF($B18="","",$D18*IFERROR(VLOOKUP($E18,'⚙️ Settings'!$B$15:$C$20,2,FALSE),1)*IF($F18="Monthly",1,IF($F18="Annual",1/12,IF($F18="Quarterly",1/3,IF($F18="Weekly",52/12,0)))))
G19: =IF($B19="","",$D19*IFERROR(VLOOKUP($E19,'⚙️ Settings'!$B$15:$C$20,2,FALSE),1)*IF($F19="Monthly",1,IF($F19="Annual",1/12,IF($F19="Quarterly",1/3,IF($F19="Weekly",52/12,0)))))
G20: =IF($B20="","",$D20*IFERROR(VLOOKUP($E20,'⚙️ Settings'!$B$15:$C$20,2,FALSE),1)*IF($F20="Monthly",1,IF($F20="Annual",1/12,IF($F20="Quarterly",1/3,IF($F20="Weekly",52/12,0)))))
G21: =IF($B21="","",$D21*IFERROR(VLOOKUP($E21,'⚙️ Settings'!$B$15:$C$20,2,FALSE),1)*IF($F21="Monthly",1,IF($F21="Annual",1/12,IF($F21="Quarterly",1/3,IF($F21="Weekly",52/12,0)))))
G22: =IF($B22="","",$D22*IFERROR(VLOOKUP($E22,'⚙️ Settings'!$B$15:$C$20,2,FALSE),1)*IF($F22="Monthly",1,IF($F22="Annual",1/12,IF($F22="Quarterly",1/3,IF($F22="Weekly",52/12,0)))))
G23: =IF($B23="","",$D23*IFERROR(VLOOKUP($E23,'⚙️ Settings'!$B$15:$C$20,2,FALSE),1)*IF($F23="Monthly",1,IF($F23="Annual",1/12,IF($F23="Quarterly",1/3,IF($F23="Weekly",52/12,0)))))
G24: =IF($B24="","",$D24*IFERROR(VLOOKUP($E24,'⚙️ Settings'!$B$15:$C$20,2,FALSE),1)*IF($F24="Monthly",1,IF($F24="Annual",1/12,IF($F24="Quarterly",1/3,IF($F24="Weekly",52/12,0)))))
G25: =IF($B25="","",$D25*IFERROR(VLOOKUP($E25,'⚙️ Settings'!$B$15:$C$20,2,FALSE),1)*IF($F25="Monthly",1,IF($F25="Annual",1/12,IF($F25="Quarterly",1/3,IF($F25="Weekly",52/12,0)))))
G26: =IF($B26="","",$D26*IFERROR(VLOOKUP($E26,'⚙️ Settings'!$B$15:$C$20,2,FALSE),1)*IF($F26="Monthly",1,IF($F26="Annual",1/12,IF($F26="Quarterly",1/3,IF($F26="Weekly",52/12,0)))))
G27: =IF($B27="","",$D27*IFERROR(VLOOKUP($E27,'⚙️ Settings'!$B$15:$C$20,2,FALSE),1)*IF($F27="Monthly",1,IF($F27="Annual",1/12,IF($F27="Quarterly",1/3,IF($F27="Weekly",52/12,0)))))
G28: =IF($B28="","",$D28*IFERROR(VLOOKUP($E28,'⚙️ Settings'!$B$15:$C$20,2,FALSE),1)*IF($F28="Monthly",1,IF($F28="Annual",1/12,IF($F28="Quarterly",1/3,IF($F28="Weekly",52/12,0)))))
G29: =IF($B29="","",$D29*IFERROR(VLOOKUP($E29,'⚙️ Settings'!$B$15:$C$20,2,FALSE),1)*IF($F29="Monthly",1,IF($F29="Annual",1/12,IF($F29="Quarterly",1/3,IF($F29="Weekly",52/12,0)))))
... G205: =IF($B205="","",$D205*IFERROR(VLOOKUP($E205,'⚙️ Settings'!$B$15:$C$20,2,FALSE),1)*IF($F205="Monthly",1,IF($F205="Annual",1/12,IF($F205="Quarterly",1/3,IF($F205="Weekly",52/12,0)))))

Sheet 🔔 Renewals
B2: Renewals | C2: Renewals | D2: Renewals | E2: Renewals | F2: Renewals | G2: Renewals | H2: Renewals | I2: Renewals | J2: Renewals | K2: Renewals | L2: Renewals | M2: Renewals | N2: Renewals | O2: Renewals | P2: Renewals | Q2: Renewals | R2: Renewals | S2: Renewals | T2: Renewals
B3: 30-day renewal timeline, calendar view, upcoming charges, monthly projections, and countdown badges. | C3: 30-day renewal timeline, calendar view, upcoming charges, monthly projections, and countdown badges. | D3: 30-day renewal timeline, calendar view, upcoming charges, monthly projections, and countdown badges. | E3: 30-day renewal timeline, calendar view, upcoming charges, monthly projections, and countdown badges. | F3: 30-day renewal timeline, calendar view, upcoming charges, monthly projections, and countdown badges. | G3: 30-day renewal timeline, calendar view, upcoming charges, monthly projections, and countdown badges. | H3: 30-day renewal timeline, calendar view, upcoming charges, monthly projections, and countdown badges. | I3: 30-day renewal timeline, calendar view, upcoming charges, monthly projections, and countdown badges. | J3: 30-day renewal timeline, calendar view, upcoming charges, monthly projections, and countdown badges. | K3: 30-day renewal timeline, calendar view, upcoming charges, monthly projections, and countdown badges. | L3: 30-day renewal timeline, calendar view, upcoming charges, monthly projections, and countdown badges. | M3: 30-day renewal timeline, calendar view, upcoming charges, monthly projections, and countdown badges. | N3: 30-day renewal timeline, calendar view, upcoming charges, monthly projections, and countdown badges. | O3: 30-day renewal timeline, calendar view, upcoming charges, monthly projections, and countdown badges. | P3: 30-day renewal timeline, calendar view, upcoming charges, monthly projections, and countdown badges. | Q3: 30-day renewal timeline, calendar view, upcoming charges, monthly projections, and countdown badges. | R3: 30-day renewal timeline, calendar view, upcoming charges, monthly projections, and countdown badges. | S3: 30-day renewal timeline, calendar view, upcoming charges, monthly projections, and countdown badges. | T3: 30-day renewal timeline, calendar view, upcoming charges, monthly projections, and countdown badges.
B5: 30-Day Timeline | C5: 30-Day Timeline | D5: 30-Day Timeline | E5: 30-Day Timeline | F5: 30-Day Timeline | G5: 30-Day Timeline | H5: 30-Day Timeline | I5: 30-Day Timeline | J5: 30-Day Timeline | K5: 30-Day Timeline | L5: 30-Day Timeline | M5: 30-Day Timeline | N5: 30-Day Timeline | O5: 30-Day Timeline | P5: 30-Day Timeline | Q5: 30-Day Timeline | R5: 30-Day Timeline | S5: 30-Day Timeline | T5: 30-Day Timeline
B7: Service | C7: Renewal | D7: Countdown | E7: Monthly USD | F7: 0 | G7: 2 | H7: 4 | I7: 6 | J7: 8 | K7: 10 | L7: 12 | M7: 14 | N7: 16 | O7: 18 | P7: 20 | Q7: 22 | R7: 24 | S7: 26 | T7: 28
B8: =IF('📦 Subscriptions'!$B6="","",'📦 Subscriptions'!$B6) -> 💠 Adobe Creative Cloud | C8: =IF('📦 Subscriptions'!$B6="","",'📦 Subscriptions'!$I6) -> 46175 | D8: ='📦 Subscriptions'!$I6-'⚙️ Settings'!$C$7 -> 8 | E8: ='📦 Subscriptions'!$G6 -> 59.99 | F8: =IF(AND($D8>=F$7,$D8<F$7+2,$D8<=30),"●","") | G8: =IF(AND($D8>=G$7,$D8<G$7+2,$D8<=30),"●","") | H8: =IF(AND($D8>=H$7,$D8<H$7+2,$D8<=30),"●","") | I8: =IF(AND($D8>=I$7,$D8<I$7+2,$D8<=30),"●","") | J8: =IF(AND($D8>=J$7,$D8<J$7+2,$D8<=30),"●","") -> ● | K8: =IF(AND($D8>=K$7,$D8<K$7+2,$D8<=30),"●","") | L8: =IF(AND($D8>=L$7,$D8<L$7+2,$D8<=30),"●","") | M8: =IF(AND($D8>=M$7,$D8<M$7+2,$D8<=30),"●","") | ... T8: =IF(AND($D8>=T$7,$D8<T$7+2,$D8<=30),"●","")
B9: =IF('📦 Subscriptions'!$B7="","",'📦 Subscriptions'!$B7) -> 🤖 ChatGPT Plus | C9: =IF('📦 Subscriptions'!$B7="","",'📦 Subscriptions'!$I7) -> 46182 | D9: ='📦 Subscriptions'!$I7-'⚙️ Settings'!$C$7 -> 15 | E9: ='📦 Subscriptions'!$G7 -> 20 | F9: =IF(AND($D9>=F$7,$D9<F$7+2,$D9<=30),"●","") | G9: =IF(AND($D9>=G$7,$D9<G$7+2,$D9<=30),"●","") | H9: =IF(AND($D9>=H$7,$D9<H$7+2,$D9<=30),"●","") | I9: =IF(AND($D9>=I$7,$D9<I$7+2,$D9<=30),"●","") | J9: =IF(AND($D9>=J$7,$D9<J$7+2,$D9<=30),"●","") | K9: =IF(AND($D9>=K$7,$D9<K$7+2,$D9<=30),"●","") | L9: =IF(AND($D9>=L$7,$D9<L$7+2,$D9<=30),"●","") | M9: =IF(AND($D9>=M$7,$D9<M$7+2,$D9<=30),"●","") -> ● | ... T9: =IF(AND($D9>=T$7,$D9<T$7+2,$D9<=30),"●","")
B10: =IF('📦 Subscriptions'!$B8="","",'📦 Subscriptions'!$B8) -> 🎨 Figma Professional | C10: =IF('📦 Subscriptions'!$B8="","",'📦 Subscriptions'!$I8) -> 46185 | D10: ='📦 Subscriptions'!$I8-'⚙️ Settings'!$C$7 -> 18 | E10: ='📦 Subscriptions'!$G8 -> 20 | F10: =IF(AND($D10>=F$7,$D10<F$7+2,$D10<=30),"●","") | G10: =IF(AND($D10>=G$7,$D10<G$7+2,$D10<=30),"●","") | H10: =IF(AND($D10>=H$7,$D10<H$7+2,$D10<=30),"●","") | I10: =IF(AND($D10>=I$7,$D10<I$7+2,$D10<=30),"●","") | J10: =IF(AND($D10>=J$7,$D10<J$7+2,$D10<=30),"●","") | K10: =IF(AND($D10>=K$7,$D10<K$7+2,$D10<=30),"●","") | L10: =IF(AND($D10>=L$7,$D10<L$7+2,$D10<=30),"●","") | M10: =IF(AND($D10>=M$7,$D10<M$7+2,$D10<=30),"●","") | ... T10: =IF(AND($D10>=T$7,$D10<T$7+2,$D10<=30),"●","")
B11: =IF('📦 Subscriptions'!$B9="","",'📦 Subscriptions'!$B9) -> 🧠 Notion Plus | C11: =IF('📦 Subscriptions'!$B9="","",'📦 Subscriptions'!$I9) -> 46190 | D11: ='📦 Subscriptions'!$I9-'⚙️ Settings'!$C$7 -> 23 | E11: ='📦 Subscriptions'!$G9 -> 10 | F11: =IF(AND($D11>=F$7,$D11<F$7+2,$D11<=30),"●","") | G11: =IF(AND($D11>=G$7,$D11<G$7+2,$D11<=30),"●","") | H11: =IF(AND($D11>=H$7,$D11<H$7+2,$D11<=30),"●","") | I11: =IF(AND($D11>=I$7,$D11<I$7+2,$D11<=30),"●","") | J11: =IF(AND($D11>=J$7,$D11<J$7+2,$D11<=30),"●","") | K11: =IF(AND($D11>=K$7,$D11<K$7+2,$D11<=30),"●","") | L11: =IF(AND($D11>=L$7,$D11<L$7+2,$D11<=30),"●","") | M11: =IF(AND($D11>=M$7,$D11<M$7+2,$D11<=30),"●","") | ... T11: =IF(AND($D11>=T$7,$D11<T$7+2,$D11<=30),"●","")
B12: =IF('📦 Subscriptions'!$B10="","",'📦 Subscriptions'!$B10) -> ☁️ Dropbox Plus | C12: =IF('📦 Subscriptions'!$B10="","",'📦 Subscriptions'!$I10) -> 46194 | D12: ='📦 Subscriptions'!$I10-'⚙️ Settings'!$C$7 -> 27 | E12: ='📦 Subscriptions'!$G10 -> 11.99 | F12: =IF(AND($D12>=F$7,$D12<F$7+2,$D12<=30),"●","") | G12: =IF(AND($D12>=G$7,$D12<G$7+2,$D12<=30),"●","") | H12: =IF(AND($D12>=H$7,$D12<H$7+2,$D12<=30),"●","") | I12: =IF(AND($D12>=I$7,$D12<I$7+2,$D12<=30),"●","") | J12: =IF(AND($D12>=J$7,$D12<J$7+2,$D12<=30),"●","") | K12: =IF(AND($D12>=K$7,$D12<K$7+2,$D12<=30),"●","") | L12: =IF(AND($D12>=L$7,$D12<L$7+2,$D12<=30),"●","") | M12: =IF(AND($D12>=M$7,$D12<M$7+2,$D12<=30),"●","") | ... T12: =IF(AND($D12>=T$7,$D12<T$7+2,$D12<=30),"●","")
B13: =IF('📦 Subscriptions'!$B11="","",'📦 Subscriptions'!$B11) -> </> GitHub Copilot | C13: =IF('📦 Subscriptions'!$B11="","",'📦 Subscriptions'!$I11) -> 46198 | D13: ='📦 Subscriptions'!$I11-'⚙️ Settings'!$C$7 -> 31 | E13: ='📦 Subscriptions'!$G11 -> 10 | F13: =IF(AND($D13>=F$7,$D13<F$7+2,$D13<=30),"●","") | G13: =IF(AND($D13>=G$7,$D13<G$7+2,$D13<=30),"●","") | H13: =IF(AND($D13>=H$7,$D13<H$7+2,$D13<=30),"●","") | I13: =IF(AND($D13>=I$7,$D13<I$7+2,$D13<=30),"●","") | J13: =IF(AND($D13>=J$7,$D13<J$7+2,$D13<=30),"●","") | K13: =IF(AND($D13>=K$7,$D13<K$7+2,$D13<=30),"●","") | L13: =IF(AND($D13>=L$7,$D13<L$7+2,$D13<=30),"●","") | M13: =IF(AND($D13>=M$7,$D13<M$7+2,$D13<=30),"●","") | ... T13: =IF(AND($D13>=T$7,$D13<T$7+2,$D13<=30),"●","")
B14: =IF('📦 Subscriptions'!$B12="","",'📦 Subscriptions'!$B12) -> 🎬 Netflix | C14: =IF('📦 Subscriptions'!$B12="","",'📦 Subscriptions'!$I12) -> 46202 | D14: ='📦 Subscriptions'!$I12-'⚙️ Settings'!$C$7 -> 35 | E14: ='📦 Subscriptions'!$G12 -> 15.49 | F14: =IF(AND($D14>=F$7,$D14<F$7+2,$D14<=30),"●","") | G14: =IF(AND($D14>=G$7,$D14<G$7+2,$D14<=30),"●","") | H14: =IF(AND($D14>=H$7,$D14<H$7+2,$D14<=30),"●","") | I14: =IF(AND($D14>=I$7,$D14<I$7+2,$D14<=30),"●","") | J14: =IF(AND($D14>=J$7,$D14<J$7+2,$D14<=30),"●","") | K14: =IF(AND($D14>=K$7,$D14<K$7+2,$D14<=30),"●","") | L14: =IF(AND($D14>=L$7,$D14<L$7+2,$D14<=30),"●","") | M14: =IF(AND($D14>=M$7,$D14<M$7+2,$D14<=30),"●","") | ... T14: =IF(AND($D14>=T$7,$D14<T$7+2,$D14<=30),"●","")
B15: =IF('📦 Subscriptions'!$B13="","",'📦 Subscriptions'!$B13) -> 🎧 Spotify | C15: =IF('📦 Subscriptions'!$B13="","",'📦 Subscriptions'!$I13) -> 46205 | D15: ='📦 Subscriptions'!$I13-'⚙️ Settings'!$C$7 -> 38 | E15: ='📦 Subscriptions'!$G13 -> 10.99 | F15: =IF(AND($D15>=F$7,$D15<F$7+2,$D15<=30),"●","") | G15: =IF(AND($D15>=G$7,$D15<G$7+2,$D15<=30),"●","") | H15: =IF(AND($D15>=H$7,$D15<H$7+2,$D15<=30),"●","") | I15: =IF(AND($D15>=I$7,$D15<I$7+2,$D15<=30),"●","") | J15: =IF(AND($D15>=J$7,$D15<J$7+2,$D15<=30),"●","") | K15: =IF(AND($D15>=K$7,$D15<K$7+2,$D15<=30),"●","") | L15: =IF(AND($D15>=L$7,$D15<L$7+2,$D15<=30),"●","") | M15: =IF(AND($D15>=M$7,$D15<M$7+2,$D15<=30),"●","") | ... T15: =IF(AND($D15>=T$7,$D15<T$7+2,$D15<=30),"●","")
B16: =IF('📦 Subscriptions'!$B14="","",'📦 Subscriptions'!$B14) -> ☁️ iCloud+ | C16: =IF('📦 Subscriptions'!$B14="","",'📦 Subscriptions'!$I14) -> 46208 | D16: ='📦 Subscriptions'!$I14-'⚙️ Settings'!$C$7 -> 41 | E16: ='📦 Subscriptions'!$G14 -> 2.99 | F16: =IF(AND($D16>=F$7,$D16<F$7+2,$D16<=30),"●","") | G16: =IF(AND($D16>=G$7,$D16<G$7+2,$D16<=30),"●","") | H16: =IF(AND($D16>=H$7,$D16<H$7+2,$D16<=30),"●","") | I16: =IF(AND($D16>=I$7,$D16<I$7+2,$D16<=30),"●","") | J16: =IF(AND($D16>=J$7,$D16<J$7+2,$D16<=30),"●","") | K16: =IF(AND($D16>=K$7,$D16<K$7+2,$D16<=30),"●","") | L16: =IF(AND($D16>=L$7,$D16<L$7+2,$D16<=30),"●","") | M16: =IF(AND($D16>=M$7,$D16<M$7+2,$D16<=30),"●","") | ... T16: =IF(AND($D16>=T$7,$D16<T$7+2,$D16<=30),"●","")
B17: =IF('📦 Subscriptions'!$B15="","",'📦 Subscriptions'!$B15) -> 🔐 NordVPN | C17: =IF('📦 Subscriptions'!$B15="","",'📦 Subscriptions'!$I15) -> 46248 | D17: ='📦 Subscriptions'!$I15-'⚙️ Settings'!$C$7 -> 81 | E17: ='📦 Subscriptions'!$G15 -> 5.99 | F17: =IF(AND($D17>=F$7,$D17<F$7+2,$D17<=30),"●","") | G17: =IF(AND($D17>=G$7,$D17<G$7+2,$D17<=30),"●","") | H17: =IF(AND($D17>=H$7,$D17<H$7+2,$D17<=30),"●","") | I17: =IF(AND($D17>=I$7,$D17<I$7+2,$D17<=30),"●","") | J17: =IF(AND($D17>=J$7,$D17<J$7+2,$D17<=30),"●","") | K17: =IF(AND($D17>=K$7,$D17<K$7+2,$D17<=30),"●","") | L17: =IF(AND($D17>=L$7,$D17<L$7+2,$D17<=30),"●","") | M17: =IF(AND($D17>=M$7,$D17<M$7+2,$D17<=30),"●","") | ... T17: =IF(AND($D17>=T$7,$D17<T$7+2,$D17<=30),"●","")
B18: =IF('📦 Subscriptions'!$B16="","",'📦 Subscriptions'!$B16) -> 🎓 Skillshare | C18: =IF('📦 Subscriptions'!$B16="","",'📦 Subscriptions'!$I16) -> 46266 | D18: ='📦 Subscriptions'!$I16-'⚙️ Settings'!$C$7 -> 99 | E18: ='📦 Subscriptions'!$G16 -> 15.14 | F18: =IF(AND($D18>=F$7,$D18<F$7+2,$D18<=30),"●","") | G18: =IF(AND($D18>=G$7,$D18<G$7+2,$D18<=30),"●","") | H18: =IF(AND($D18>=H$7,$D18<H$7+2,$D18<=30),"●","") | I18: =IF(AND($D18>=I$7,$D18<I$7+2,$D18<=30),"●","") | J18: =IF(AND($D18>=J$7,$D18<J$7+2,$D18<=30),"●","") | K18: =IF(AND($D18>=K$7,$D18<K$7+2,$D18<=30),"●","") | L18: =IF(AND($D18>=L$7,$D18<L$7+2,$D18<=30),"●","") | M18: =IF(AND($D18>=M$7,$D18<M$7+2,$D18<=30),"●","") | ... T18: =IF(AND($D18>=T$7,$D18<T$7+2,$D18<=30),"●","")
B19: =IF('📦 Subscriptions'!$B17="","",'📦 Subscriptions'!$B17) | C19: =IF('📦 Subscriptions'!$B17="","",'📦 Subscriptions'!$I17) | D19: ='📦 Subscriptions'!$I17-'⚙️ Settings'!$C$7 -> -46167 | E19: ='📦 Subscriptions'!$G17 -> 0 | F19: =IF(AND($D19>=F$7,$D19<F$7+2,$D19<=30),"●","") | G19: =IF(AND($D19>=G$7,$D19<G$7+2,$D19<=30),"●","") | H19: =IF(AND($D19>=H$7,$D19<H$7+2,$D19<=30),"●","") | I19: =IF(AND($D19>=I$7,$D19<I$7+2,$D19<=30),"●","") | J19: =IF(AND($D19>=J$7,$D19<J$7+2,$D19<=30),"●","") | K19: =IF(AND($D19>=K$7,$D19<K$7+2,$D19<=30),"●","") | L19: =IF(AND($D19>=L$7,$D19<L$7+2,$D19<=30),"●","") | M19: =IF(AND($D19>=M$7,$D19<M$7+2,$D19<=30),"●","") | ... T19: =IF(AND($D19>=T$7,$D19<T$7+2,$D19<=30),"●","")
B22: Upcoming Charges | C22: Upcoming Charges | D22: Upcoming Charges | E22: Upcoming Charges | F22: Upcoming Charges | H22: ="Renewal Calendar • "&TEXT('⚙️ Settings'!$C$7-WEEKDAY('⚙️ Settings'!$C$7,2)+1,"mmm d")&" - "&TEXT('⚙️ Settings'!$C$7-WEEKDAY('⚙️ Settings'!$C$7,2)+42,"mmm d") -> Renewal Calendar • May 25 - Jul 5 | P22: Monthly Projections | Q22: Monthly Projections | R22: Monthly Projections | S22: Monthly Projections | T22: Monthly Projections
H23: ● Today | J23: ● Renewal | L23: ● Weekend
B24: Service | C24: Renewal | D24: Countdown | E24: Monthly USD | F24: Auto | H24: Mon | I24: Tue | J24: Wed | K24: Thu | L24: Fri | M24: Sat | N24: Sun | P24: Month | Q24: Renewals | R24: Projected Charges | S24: Risk | T24: Signal
B25: =IF('📦 Subscriptions'!$B6="","",'📦 Subscriptions'!$B6) -> 💠 Adobe Creative Cloud | C25: =IF('📦 Subscriptions'!$B6="","",'📦 Subscriptions'!$I6) -> 46175 | D25: =IF('📦 Subscriptions'!$B6="","",'📦 Subscriptions'!$I6-'⚙️ Settings'!$C$7) -> 8 | E25: =IF('📦 Subscriptions'!$B6="","",'📦 Subscriptions'!$G6) -> 59.99 | F25: =IF('📦 Subscriptions'!$B6="","",'📦 Subscriptions'!$K6) -> Yes | H25: 25 Today | I25: 26 | J25: 27 | K25: 28 | L25: 29 | M25: 30 | N25: 31 | P25: =TEXT(EDATE(DATE(YEAR('⚙️ Settings'!$C$7),MONTH('⚙️ Settings'!$C$7),1),0),"mmm") -> May | Q25: =COUNTIFS('📦 Subscriptions'!$J$6:$J$205,"Active",'📦 Subscriptions'!$I$6:$I$205,">="&EDATE(DATE(YEAR('⚙️ Settings'!$C$7),MONTH('⚙️ Settings'!$C$7),1),0),'📦 Subscriptions'!$I$6:$I$205,"<"&EDATE(EDATE(DATE(YEAR('⚙️ Settings'!$C$7),MONTH('⚙️ Settings'!$C$7),1),0),1)) -> 0 | R25: =SUMIFS('📦 Subscriptions'!$G$6:$G$205,'📦 Subscriptions'!$J$6:$J$205,"Active",'📦 Subscriptions'!$I$6:$I$205,">="&EDATE(DATE(YEAR('⚙️ Settings'!$C$7),MONTH('⚙️ Settings'!$C$7),1),0),'📦 Subscriptions'!$I$6:$I$205,"<"&EDATE(EDATE(DATE(YEAR('⚙️ Settings'!$C$7),MONTH('⚙️ Settings'!$C$7),1),0),1)) -> 0 | S25: =MIN(1,IFERROR(Q25/COUNTIFS('📦 Subscriptions'!$J$6:$J$205,"Active"),0)) -> 0 | T25: =IF(S25>=0.5,"Review",IF(S25>=0.25,"Watch","Stable")) -> Stable
B26: =IF('📦 Subscriptions'!$B7="","",'📦 Subscriptions'!$B7) -> 🤖 ChatGPT Plus | C26: =IF('📦 Subscriptions'!$B7="","",'📦 Subscriptions'!$I7) -> 46182 | D26: =IF('📦 Subscriptions'!$B7="","",'📦 Subscriptions'!$I7-'⚙️ Settings'!$C$7) -> 15 | E26: =IF('📦 Subscriptions'!$B7="","",'📦 Subscriptions'!$G7) -> 20 | F26: =IF('📦 Subscriptions'!$B7="","",'📦 Subscriptions'!$K7) -> Yes | H26: 1 | I26: 2 💠 Adobe Creative Cloud $60 | J26: 3 | K26: 4 | L26: 5 | M26: 6 | N26: 7 | P26: =TEXT(EDATE(DATE(YEAR('⚙️ Settings'!$C$7),MONTH('⚙️ Settings'!$C$7),1),1),"mmm") -> Jun | Q26: =COUNTIFS('📦 Subscriptions'!$J$6:$J$205,"Active",'📦 Subscriptions'!$I$6:$I$205,">="&EDATE(DATE(YEAR('⚙️ Settings'!$C$7),MONTH('⚙️ Settings'!$C$7),1),1),'📦 Subscriptions'!$I$6:$I$205,"<"&EDATE(EDATE(DATE(YEAR('⚙️ Settings'!$C$7),MONTH('⚙️ Settings'!$C$7),1),1),1)) -> 7 | R26: =SUMIFS('📦 Subscriptions'!$G$6:$G$205,'📦 Subscriptions'!$J$6:$J$205,"Active",'📦 Subscriptions'!$I$6:$I$205,">="&EDATE(DATE(YEAR('⚙️ Settings'!$C$7),MONTH('⚙️ Settings'!$C$7),1),1),'📦 Subscriptions'!$I$6:$I$205,"<"&EDATE(EDATE(DATE(YEAR('⚙️ Settings'!$C$7),MONTH('⚙️ Settings'!$C$7),1),1),1)) -> 147.47 | S26: =MIN(1,IFERROR(Q26/COUNTIFS('📦 Subscriptions'!$J$6:$J$205,"Active"),0)) -> 0.63636364 | T26: =IF(S26>=0.5,"Review",IF(S26>=0.25,"Watch","Stable")) -> Review
B27: =IF('📦 Subscriptions'!$B8="","",'📦 Subscriptions'!$B8) -> 🎨 Figma Professional | C27: =IF('📦 Subscriptions'!$B8="","",'📦 Subscriptions'!$I8) -> 46185 | D27: =IF('📦 Subscriptions'!$B8="","",'📦 Subscriptions'!$I8-'⚙️ Settings'!$C$7) -> 18 | E27: =IF('📦 Subscriptions'!$B8="","",'📦 Subscriptions'!$G8) -> 20 | F27: =IF('📦 Subscriptions'!$B8="","",'📦 Subscriptions'!$K8) -> Yes | H27: 8 | I27: 9 🤖 ChatGPT Plus $20 | J27: 10 | K27: 11 | L27: 12 🎨 Figma Professional $20 | M27: 13 | N27: 14 | P27: =TEXT(EDATE(DATE(YEAR('⚙️ Settings'!$C$7),MONTH('⚙️ Settings'!$C$7),1),2),"mmm") -> Jul | Q27: =COUNTIFS('📦 Subscriptions'!$J$6:$J$205,"Active",'📦 Subscriptions'!$I$6:$I$205,">="&EDATE(DATE(YEAR('⚙️ Settings'!$C$7),MONTH('⚙️ Settings'!$C$7),1),2),'📦 Subscriptions'!$I$6:$I$205,"<"&EDATE(EDATE(DATE(YEAR('⚙️ Settings'!$C$7),MONTH('⚙️ Settings'!$C$7),1),2),1)) -> 2 | R27: =SUMIFS('📦 Subscriptions'!$G$6:$G$205,'📦 Subscriptions'!$J$6:$J$205,"Active",'📦 Subscriptions'!$I$6:$I$205,">="&EDATE(DATE(YEAR('⚙️ Settings'!$C$7),MONTH('⚙️ Settings'!$C$7),1),2),'📦 Subscriptions'!$I$6:$I$205,"<"&EDATE(EDATE(DATE(YEAR('⚙️ Settings'!$C$7),MONTH('⚙️ Settings'!$C$7),1),2),1)) -> 13.98 | S27: =MIN(1,IFERROR(Q27/COUNTIFS('📦 Subscriptions'!$J$6:$J$205,"Active"),0)) -> 0.18181818 | T27: =IF(S27>=0.5,"Review",IF(S27>=0.25,"Watch","Stable")) -> Stable
B28: =IF('📦 Subscriptions'!$B9="","",'📦 Subscriptions'!$B9) -> 🧠 Notion Plus | C28: =IF('📦 Subscriptions'!$B9="","",'📦 Subscriptions'!$I9) -> 46190 | D28: =IF('📦 Subscriptions'!$B9="","",'📦 Subscriptions'!$I9-'⚙️ Settings'!$C$7) -> 23 | E28: =IF('📦 Subscriptions'!$B9="","",'📦 Subscriptions'!$G9) -> 10 | F28: =IF('📦 Subscriptions'!$B9="","",'📦 Subscriptions'!$K9) -> Yes | H28: 15 | I28: 16 | J28: 17 🧠 Notion Plus $10 | K28: 18 | L28: 19 | M28: 20 | N28: 21 ☁️ Dropbox Plus $12 | P28: =TEXT(EDATE(DATE(YEAR('⚙️ Settings'!$C$7),MONTH('⚙️ Settings'!$C$7),1),3),"mmm") -> Aug | Q28: =COUNTIFS('📦 Subscriptions'!$J$6:$J$205,"Active",'📦 Subscriptions'!$I$6:$I$205,">="&EDATE(DATE(YEAR('⚙️ Settings'!$C$7),MONTH('⚙️ Settings'!$C$7),1),3),'📦 Subscriptions'!$I$6:$I$205,"<"&EDATE(EDATE(DATE(YEAR('⚙️ Settings'!$C$7),MONTH('⚙️ Settings'!$C$7),1),3),1)) -> 1 | R28: =SUMIFS('📦 Subscriptions'!$G$6:$G$205,'📦 Subscriptions'!$J$6:$J$205,"Active",'📦 Subscriptions'!$I$6:$I$205,">="&EDATE(DATE(YEAR('⚙️ Settings'!$C$7),MONTH('⚙️ Settings'!$C$7),1),3),'📦 Subscriptions'!$I$6:$I$205,"<"&EDATE(EDATE(DATE(YEAR('⚙️ Settings'!$C$7),MONTH('⚙️ Settings'!$C$7),1),3),1)) -> 5.99 | S28: =MIN(1,IFERROR(Q28/COUNTIFS('📦 Subscriptions'!$J$6:$J$205,"Active"),0)) -> 0.090909091 | T28: =IF(S28>=0.5,"Review",IF(S28>=0.25,"Watch","Stable")) -> Stable
B29: =IF('📦 Subscriptions'!$B10="","",'📦 Subscriptions'!$B10) -> ☁️ Dropbox Plus | C29: =IF('📦 Subscriptions'!$B10="","",'📦 Subscriptions'!$I10) -> 46194 | D29: =IF('📦 Subscriptions'!$B10="","",'📦 Subscriptions'!$I10-'⚙️ Settings'!$C$7) -> 27 | E29: =IF('📦 Subscriptions'!$B10="","",'📦 Subscriptions'!$G10) -> 11.99 | F29: =IF('📦 Subscriptions'!$B10="","",'📦 Subscriptions'!$K10) -> Yes | H29: 22 | I29: 23 | J29: 24 | K29: 25 </> GitHub Copilot $10 | L29: 26 | M29: 27 | N29: 28 | P29: =TEXT(EDATE(DATE(YEAR('⚙️ Settings'!$C$7),MONTH('⚙️ Settings'!$C$7),1),4),"mmm") -> Sep | Q29: =COUNTIFS('📦 Subscriptions'!$J$6:$J$205,"Active",'📦 Subscriptions'!$I$6:$I$205,">="&EDATE(DATE(YEAR('⚙️ Settings'!$C$7),MONTH('⚙️ Settings'!$C$7),1),4),'📦 Subscriptions'!$I$6:$I$205,"<"&EDATE(EDATE(DATE(YEAR('⚙️ Settings'!$C$7),MONTH('⚙️ Settings'!$C$7),1),4),1)) -> 1 | R29: =SUMIFS('📦 Subscriptions'!$G$6:$G$205,'📦 Subscriptions'!$J$6:$J$205,"Active",'📦 Subscriptions'!$I$6:$I$205,">="&EDATE(DATE(YEAR('⚙️ Settings'!$C$7),MONTH('⚙️ Settings'!$C$7),1),4),'📦 Subscriptions'!$I$6:$I$205,"<"&EDATE(EDATE(DATE(YEAR('⚙️ Settings'!$C$7),MONTH('⚙️ Settings'!$C$7),1),4),1)) -> 15.14 | S29: =MIN(1,IFERROR(Q29/COUNTIFS('📦 Subscriptions'!$J$6:$J$205,"Active"),0)) -> 0.090909091 | T29: =IF(S29>=0.5,"Review",IF(S29>=0.25,"Watch","Stable")) -> Stable
B30: =IF('📦 Subscriptions'!$B11="","",'📦 Subscriptions'!$B11) -> </> GitHub Copilot | C30: =IF('📦 Subscriptions'!$B11="","",'📦 Subscriptions'!$I11) -> 46198 | D30: =IF('📦 Subscriptions'!$B11="","",'📦 Subscriptions'!$I11-'⚙️ Settings'!$C$7) -> 31 | E30: =IF('📦 Subscriptions'!$B11="","",'📦 Subscriptions'!$G11) -> 10 | F30: =IF('📦 Subscriptions'!$B11="","",'📦 Subscriptions'!$K11) -> Yes | H30: 29 🎬 Netflix $15 | I30: 30 | J30: 1 | K30: 2 🎧 Spotify $11 | L30: 3 | M30: 4 | N30: 5 ☁️ iCloud+ $3 | P30: =TEXT(EDATE(DATE(YEAR('⚙️ Settings'!$C$7),MONTH('⚙️ Settings'!$C$7),1),5),"mmm") -> Oct | Q30: =COUNTIFS('📦 Subscriptions'!$J$6:$J$205,"Active",'📦 Subscriptions'!$I$6:$I$205,">="&EDATE(DATE(YEAR('⚙️ Settings'!$C$7),MONTH('⚙️ Settings'!$C$7),1),5),'📦 Subscriptions'!$I$6:$I$205,"<"&EDATE(EDATE(DATE(YEAR('⚙️ Settings'!$C$7),MONTH('⚙️ Settings'!$C$7),1),5),1)) -> 0 | R30: =SUMIFS('📦 Subscriptions'!$G$6:$G$205,'📦 Subscriptions'!$J$6:$J$205,"Active",'📦 Subscriptions'!$I$6:$I$205,">="&EDATE(DATE(YEAR('⚙️ Settings'!$C$7),MONTH('⚙️ Settings'!$C$7),1),5),'📦 Subscriptions'!$I$6:$I$205,"<"&EDATE(EDATE(DATE(YEAR('⚙️ Settings'!$C$7),MONTH('⚙️ Settings'!$C$7),1),5),1)) -> 0 | S30: =MIN(1,IFERROR(Q30/COUNTIFS('📦 Subscriptions'!$J$6:$J$205,"Active"),0)) -> 0 | T30: =IF(S30>=0.5,"Review",IF(S30>=0.25,"Watch","Stable")) -> Stable
B31: =IF('📦 Subscriptions'!$B12="","",'📦 Subscriptions'!$B12) -> 🎬 Netflix | C31: =IF('📦 Subscriptions'!$B12="","",'📦 Subscriptions'!$I12) -> 46202 | D31: =IF('📦 Subscriptions'!$B12="","",'📦 Subscriptions'!$I12-'⚙️ Settings'!$C$7) -> 35 | E31: =IF('📦 Subscriptions'!$B12="","",'📦 Subscriptions'!$G12) -> 15.49 | F31: =IF('📦 Subscriptions'!$B12="","",'📦 Subscriptions'!$K12) -> Yes | P31: =TEXT(EDATE(DATE(YEAR('⚙️ Settings'!$C$7),MONTH('⚙️ Settings'!$C$7),1),6),"mmm") -> Nov | Q31: =COUNTIFS('📦 Subscriptions'!$J$6:$J$205,"Active",'📦 Subscriptions'!$I$6:$I$205,">="&EDATE(DATE(YEAR('⚙️ Settings'!$C$7),MONTH('⚙️ Settings'!$C$7),1),6),'📦 Subscriptions'!$I$6:$I$205,"<"&EDATE(EDATE(DATE(YEAR('⚙️ Settings'!$C$7),MONTH('⚙️ Settings'!$C$7),1),6),1)) -> 0 | R31: =SUMIFS('📦 Subscriptions'!$G$6:$G$205,'📦 Subscriptions'!$J$6:$J$205,"Active",'📦 Subscriptions'!$I$6:$I$205,">="&EDATE(DATE(YEAR('⚙️ Settings'!$C$7),MONTH('⚙️ Settings'!$C$7),1),6),'📦 Subscriptions'!$I$6:$I$205,"<"&EDATE(EDATE(DATE(YEAR('⚙️ Settings'!$C$7),MONTH('⚙️ Settings'!$C$7),1),6),1)) -> 0 | S31: =MIN(1,IFERROR(Q31/COUNTIFS('📦 Subscriptions'!$J$6:$J$205,"Active"),0)) -> 0 | T31: =IF(S31>=0.5,"Review",IF(S31>=0.25,"Watch","Stable")) -> Stable
B32: =IF('📦 Subscriptions'!$B13="","",'📦 Subscriptions'!$B13) -> 🎧 Spotify | C32: =IF('📦 Subscriptions'!$B13="","",'📦 Subscriptions'!$I13) -> 46205 | D32: =IF('📦 Subscriptions'!$B13="","",'📦 Subscriptions'!$I13-'⚙️ Settings'!$C$7) -> 38 | E32: =IF('📦 Subscriptions'!$B13="","",'📦 Subscriptions'!$G13) -> 10.99 | F32: =IF('📦 Subscriptions'!$B13="","",'📦 Subscriptions'!$K13) -> Yes
B33: =IF('📦 Subscriptions'!$B14="","",'📦 Subscriptions'!$B14) -> ☁️ iCloud+ | C33: =IF('📦 Subscriptions'!$B14="","",'📦 Subscriptions'!$I14) -> 46208 | D33: =IF('📦 Subscriptions'!$B14="","",'📦 Subscriptions'!$I14-'⚙️ Settings'!$C$7) -> 41 | E33: =IF('📦 Subscriptions'!$B14="","",'📦 Subscriptions'!$G14) -> 2.99 | F33: =IF('📦 Subscriptions'!$B14="","",'📦 Subscriptions'!$K14) -> Yes
B34: =IF('📦 Subscriptions'!$B15="","",'📦 Subscriptions'!$B15) -> 🔐 NordVPN | C34: =IF('📦 Subscriptions'!$B15="","",'📦 Subscriptions'!$I15) -> 46248 | D34: =IF('📦 Subscriptions'!$B15="","",'📦 Subscriptions'!$I15-'⚙️ Settings'!$C$7) -> 81 | E34: =IF('📦 Subscriptions'!$B15="","",'📦 Subscriptions'!$G15) -> 5.99 | F34: =IF('📦 Subscriptions'!$B15="","",'📦 Subscriptions'!$K15) -> Yes
B35: =IF('📦 Subscriptions'!$B16="","",'📦 Subscriptions'!$B16) -> 🎓 Skillshare | C35: =IF('📦 Subscriptions'!$B16="","",'📦 Subscriptions'!$I16) -> 46266 | D35: =IF('📦 Subscriptions'!$B16="","",'📦 Subscriptions'!$I16-'⚙️ Settings'!$C$7) -> 99 | E35: =IF('📦 Subscriptions'!$B16="","",'📦 Subscriptions'!$G16) -> 15.14 | F35: =IF('📦 Subscriptions'!$B16="","",'📦 Subscriptions'!$K16) -> No
B36: =IF('📦 Subscriptions'!$B17="","",'📦 Subscriptions'!$B17) | C36: =IF('📦 Subscriptions'!$B17="","",'📦 Subscriptions'!$I17) | D36: =IF('📦 Subscriptions'!$B17="","",'📦 Subscriptions'!$I17-'⚙️ Settings'!$C$7) | E36: =IF('📦 Subscriptions'!$B17="","",'📦 Subscriptions'!$G17) | F36: =IF('📦 Subscriptions'!$B17="","",'📦 Subscriptions'!$K17)

Sheet 💡 Optimization
B2: Optimization | C2: Optimization | D2: Optimization | E2: Optimization | F2: Optimization | G2: Optimization | H2: Optimization | I2: Optimization | J2: Optimization | K2: Optimization
B3: Identify duplicate subscriptions, unused services, downgrade candidates, price increases, and annual savings. | C3: Identify duplicate subscriptions, unused services, downgrade candidates, price increases, and annual savings. | D3: Identify duplicate subscriptions, unused services, downgrade candidates, price increases, and annual savings. | E3: Identify duplicate subscriptions, unused services, downgrade candidates, price increases, and annual savings. | F3: Identify duplicate subscriptions, unused services, downgrade candidates, price increases, and annual savings. | G3: Identify duplicate subscriptions, unused services, downgrade candidates, price increases, and annual savings. | H3: Identify duplicate subscriptions, unused services, downgrade candidates, price increases, and annual savings. | I3: Identify duplicate subscriptions, unused services, downgrade candidates, price increases, and annual savings. | J3: Identify duplicate subscriptions, unused services, downgrade candidates, price increases, and annual savings. | K3: Identify duplicate subscriptions, unused services, downgrade candidates, price increases, and annual savings.
B5: Potential Saving | C5: Potential Saving | D5: Potential Saving | F5: Actions Detected | G5: Actions Detected | H5: Actions Detected | J5: Optimization Health | K5: Optimization Health
B6: =SUM(D15:D19,D26:D29)*12+SUM(K15:K19,K26:K29) -> #N/A | F6: 21 | J6: =MAX(0,MIN(1,1-$B$6/(SUMIFS('📦 Subscriptions'!$G$6:$G$205,'📦 Subscriptions'!$J$6:$J$205,"Active")*12+$B$6))) -> #N/A
B9: Annualized from detected optimization opportunities | C9: Annualized from detected optimization opportunities | D9: Annualized from detected optimization opportunities | F9: Review before renewal or billing changes | G9: Review before renewal or billing changes | H9: Review before renewal or billing changes | J9: =REPT("●",ROUND(J6*10,0))&REPT("○",10-ROUND(J6*10,0)) -> #N/A
B12: Duplicate Subscriptions | C12: Duplicate Subscriptions | D12: Duplicate Subscriptions | E12: Duplicate Subscriptions | G12: Unused Subscriptions | H12: Unused Subscriptions | I12: Unused Subscriptions | J12: Unused Subscriptions | K12: Unused Subscriptions
B14: Service | C14: Signal | D14: Monthly Saving | E14: Action | G14: Service | H14: Last Used | I14: Utilization | J14: Monthly Saving | K14: Annual Saving
B15: 💠 Adobe Creative Cloud | C15: =IF($B15 = "", "", _xlfn.SINGLE(_xlfn.XLOOKUP($B15, '📦 Subscriptions'!$B$6:$B$205, '📦 Subscriptions'!$C$6:$C$205)) & " overlap") -> Software overlap | D15: =_xlfn.SINGLE(IF($B15 = "", "", IF(OR(_xlfn.SINGLE(_xlfn.XLOOKUP($B15, '📦 Subscriptions'!$B$6:$B$205, '📦 Subscriptions'!$N$6:$N$205)) = "Cancel", _xlfn.SINGLE(_xlfn.XLOOKUP($B15, '📦 Subscriptions'!$B$6:$B$205, '📦 Subscriptions'!$N$6:$N$205)) = "Review"), _xlfn.XLOOKUP($B15, '📦 Subscriptions'!$B$6:$B$205, '📦 Subscriptions'!$G$6:$G$205), 0))) -> 59.99 | E15: =IF($B15="","",IF($D15>0,"Review duplicate stack","Keep if high utilization")) -> Review duplicate stack | G15: ☁️ Dropbox Plus | H15: =_xlfn.SINGLE(IF($G15 = "", "", _xlfn.XLOOKUP($G15, '📦 Subscriptions'!$B$6:$B$205, '📦 Subscriptions'!$L$6:$L$205))) -> 46160 | I15: =_xlfn.SINGLE(IF($G15 = "", "", _xlfn.XLOOKUP($G15, '📦 Subscriptions'!$B$6:$B$205, '📦 Subscriptions'!$M$6:$M$205))) -> 0.52 | J15: =_xlfn.SINGLE(IF($G15 = "", "", _xlfn.XLOOKUP($G15, '📦 Subscriptions'!$B$6:$B$205, '📦 Subscriptions'!$G$6:$G$205))) -> 11.99 | K15: =IF(J15="","",J15*12) -> 143.88
B16: 🤖 ChatGPT Plus | C16: =IF($B16 = "", "", _xlfn.SINGLE(_xlfn.XLOOKUP($B16, '📦 Subscriptions'!$B$6:$B$205, '📦 Subscriptions'!$C$6:$C$205)) & " overlap") -> Software overlap | D16: =_xlfn.SINGLE(IF($B16 = "", "", IF(OR(_xlfn.SINGLE(_xlfn.XLOOKUP($B16, '📦 Subscriptions'!$B$6:$B$205, '📦 Subscriptions'!$N$6:$N$205)) = "Cancel", _xlfn.SINGLE(_xlfn.XLOOKUP($B16, '📦 Subscriptions'!$B$6:$B$205, '📦 Subscriptions'!$N$6:$N$205)) = "Review"), _xlfn.XLOOKUP($B16, '📦 Subscriptions'!$B$6:$B$205, '📦 Subscriptions'!$G$6:$G$205), 0))) -> 0 | E16: =IF($B16="","",IF($D16>0,"Review duplicate stack","Keep if high utilization")) -> Keep if high utilization | G16: 🎬 Netflix | H16: =_xlfn.SINGLE(IF($G16 = "", "", _xlfn.XLOOKUP($G16, '📦 Subscriptions'!$B$6:$B$205, '📦 Subscriptions'!$L$6:$L$205))) -> 46152 | I16: =_xlfn.SINGLE(IF($G16 = "", "", _xlfn.XLOOKUP($G16, '📦 Subscriptions'!$B$6:$B$205, '📦 Subscriptions'!$M$6:$M$205))) -> 0.48 | J16: =_xlfn.SINGLE(IF($G16 = "", "", _xlfn.XLOOKUP($G16, '📦 Subscriptions'!$B$6:$B$205, '📦 Subscriptions'!$G$6:$G$205))) -> 15.49 | K16: =IF(J16="","",J16*12) -> 185.88
B17: 🎨 Figma Professional | C17: =IF($B17 = "", "", _xlfn.SINGLE(_xlfn.XLOOKUP($B17, '📦 Subscriptions'!$B$6:$B$205, '📦 Subscriptions'!$C$6:$C$205)) & " overlap") -> Productivity overlap | D17: =_xlfn.SINGLE(IF($B17 = "", "", IF(OR(_xlfn.SINGLE(_xlfn.XLOOKUP($B17, '📦 Subscriptions'!$B$6:$B$205, '📦 Subscriptions'!$N$6:$N$205)) = "Cancel", _xlfn.SINGLE(_xlfn.XLOOKUP($B17, '📦 Subscriptions'!$B$6:$B$205, '📦 Subscriptions'!$N$6:$N$205)) = "Review"), _xlfn.XLOOKUP($B17, '📦 Subscriptions'!$B$6:$B$205, '📦 Subscriptions'!$G$6:$G$205), 0))) -> 0 | E17: =IF($B17="","",IF($D17>0,"Review duplicate stack","Keep if high utilization")) -> Keep if high utilization | G17: 🔐 NordVPN | H17: =_xlfn.SINGLE(IF($G17 = "", "", _xlfn.XLOOKUP($G17, '📦 Subscriptions'!$B$6:$B$205, '📦 Subscriptions'!$L$6:$L$205))) -> 46130 | I17: =_xlfn.SINGLE(IF($G17 = "", "", _xlfn.XLOOKUP($G17, '📦 Subscriptions'!$B$6:$B$205, '📦 Subscriptions'!$M$6:$M$205))) -> 0.31 | J17: =_xlfn.SINGLE(IF($G17 = "", "", _xlfn.XLOOKUP($G17, '📦 Subscriptions'!$B$6:$B$205, '📦 Subscriptions'!$G$6:$G$205))) -> 5.99 | K17: =IF(J17="","",J17*12) -> 71.88
B18: 🧠 Notion Plus | C18: =IF($B18 = "", "", _xlfn.SINGLE(_xlfn.XLOOKUP($B18, '📦 Subscriptions'!$B$6:$B$205, '📦 Subscriptions'!$C$6:$C$205)) & " overlap") -> Productivity overlap | D18: =_xlfn.SINGLE(IF($B18 = "", "", IF(OR(_xlfn.SINGLE(_xlfn.XLOOKUP($B18, '📦 Subscriptions'!$B$6:$B$205, '📦 Subscriptions'!$N$6:$N$205)) = "Cancel", _xlfn.SINGLE(_xlfn.XLOOKUP($B18, '📦 Subscriptions'!$B$6:$B$205, '📦 Subscriptions'!$N$6:$N$205)) = "Review"), _xlfn.XLOOKUP($B18, '📦 Subscriptions'!$B$6:$B$205, '📦 Subscriptions'!$G$6:$G$205), 0))) -> 0 | E18: =IF($B18="","",IF($D18>0,"Review duplicate stack","Keep if high utilization")) -> Keep if high utilization | G18: 🎓 Skillshare | H18: =_xlfn.SINGLE(IF($G18 = "", "", _xlfn.XLOOKUP($G18, '📦 Subscriptions'!$B$6:$B$205, '📦 Subscriptions'!$L$6:$L$205))) -> 46109 | I18: =_xlfn.SINGLE(IF($G18 = "", "", _xlfn.XLOOKUP($G18, '📦 Subscriptions'!$B$6:$B$205, '📦 Subscriptions'!$M$6:$M$205))) -> 0.18 | J18: =_xlfn.SINGLE(IF($G18 = "", "", _xlfn.XLOOKUP($G18, '📦 Subscriptions'!$B$6:$B$205, '📦 Subscriptions'!$G$6:$G$205))) -> 15.14 | K18: =IF(J18="","",J18*12) -> 181.68
B19: ☁️ Dropbox Plus | C19: =IF($B19 = "", "", _xlfn.SINGLE(_xlfn.XLOOKUP($B19, '📦 Subscriptions'!$B$6:$B$205, '📦 Subscriptions'!$C$6:$C$205)) & " overlap") -> Cloud overlap | D19: =_xlfn.SINGLE(IF($B19 = "", "", IF(OR(_xlfn.SINGLE(_xlfn.XLOOKUP($B19, '📦 Subscriptions'!$B$6:$B$205, '📦 Subscriptions'!$N$6:$N$205)) = "Cancel", _xlfn.SINGLE(_xlfn.XLOOKUP($B19, '📦 Subscriptions'!$B$6:$B$205, '📦 Subscriptions'!$N$6:$N$205)) = "Review"), _xlfn.XLOOKUP($B19, '📦 Subscriptions'!$B$6:$B$205, '📦 Subscriptions'!$G$6:$G$205), 0))) -> 0 | E19: =IF($B19="","",IF($D19>0,"Review duplicate stack","Keep if high utilization")) -> Keep if high utilization | G19: ✍️ Grammarly | H19: =_xlfn.SINGLE(IF($G19 = "", "", _xlfn.XLOOKUP($G19, '📦 Subscriptions'!$B$6:$B$205, '📦 Subscriptions'!$L$6:$L$205))) -> #N/A | I19: =_xlfn.SINGLE(IF($G19 = "", "", _xlfn.XLOOKUP($G19, '📦 Subscriptions'!$B$6:$B$205, '📦 Subscriptions'!$M$6:$M$205))) -> #N/A | J19: =_xlfn.SINGLE(IF($G19 = "", "", _xlfn.XLOOKUP($G19, '📦 Subscriptions'!$B$6:$B$205, '📦 Subscriptions'!$G$6:$G$205))) -> #N/A | K19: =IF(J19="","",J19*12) -> #N/A
B23: Downgrade Candidates | C23: Downgrade Candidates | D23: Downgrade Candidates | E23: Downgrade Candidates | G23: Price Increases | H23: Price Increases | I23: Price Increases | J23: Price Increases | K23: Price Increases
B25: Service | C25: Utilization | D25: Monthly Saving | E25: Action | G25: Service | H25: Previous | I25: Current | J25: Increase | K25: Annual Saving
B26: 🎨 Figma Professional | C26: =_xlfn.SINGLE(IF($B26 = "", "", _xlfn.XLOOKUP($B26, '📦 Subscriptions'!$B$6:$B$205, '📦 Subscriptions'!$M$6:$M$205))) -> 0.67 | D26: =IF($B26 = "", "", ROUND(_xlfn.SINGLE(_xlfn.XLOOKUP($B26, '📦 Subscriptions'!$B$6:$B$205, '📦 Subscriptions'!$G$6:$G$205)) * IF(_xlfn.SINGLE(_xlfn.XLOOKUP($B26, '📦 Subscriptions'!$B$6:$B$205, '📦 Subscriptions'!$N$6:$N$205)) = "Switch to Annual", 0.2, 0.35), 2)) -> 4 | E26: =IF($B26 = "", "", IF(_xlfn.SINGLE(_xlfn.XLOOKUP($B26, '📦 Subscriptions'!$B$6:$B$205, '📦 Subscriptions'!$N$6:$N$205)) = "Switch to Annual", "Move annual / seats audit", "Review lower tier")) -> Move annual / seats audit | G26: 💠 Adobe Creative Cloud | H26: =_xlfn.SINGLE(IF($G26 = "", "", _xlfn.XLOOKUP($G26, '🗃️ Database'!$B$17:$B$28, '🗃️ Database'!$C$17:$C$28))) -> 54.99 | I26: =_xlfn.SINGLE(IF($G26 = "", "", _xlfn.XLOOKUP($G26, '🗃️ Database'!$B$17:$B$28, '🗃️ Database'!$D$17:$D$28))) -> 59.99 | J26: =IF(I26="","",I26/H26-1) -> 0.090925623 | K26: =IF($G26="","",ROUND(($I26-$H26)*12,0)) -> 60
B27: ☁️ Dropbox Plus | C27: =_xlfn.SINGLE(IF($B27 = "", "", _xlfn.XLOOKUP($B27, '📦 Subscriptions'!$B$6:$B$205, '📦 Subscriptions'!$M$6:$M$205))) -> 0.52 | D27: =IF($B27 = "", "", ROUND(_xlfn.SINGLE(_xlfn.XLOOKUP($B27, '📦 Subscriptions'!$B$6:$B$205, '📦 Subscriptions'!$G$6:$G$205)) * IF(_xlfn.SINGLE(_xlfn.XLOOKUP($B27, '📦 Subscriptions'!$B$6:$B$205, '📦 Subscriptions'!$N$6:$N$205)) = "Switch to Annual", 0.2, 0.35), 2)) -> 4.2 | E27: =IF($B27 = "", "", IF(_xlfn.SINGLE(_xlfn.XLOOKUP($B27, '📦 Subscriptions'!$B$6:$B$205, '📦 Subscriptions'!$N$6:$N$205)) = "Switch to Annual", "Move annual / seats audit", "Review lower tier")) -> Review lower tier | G27: ☁️ Dropbox Plus | H27: =_xlfn.SINGLE(IF($G27 = "", "", _xlfn.XLOOKUP($G27, '🗃️ Database'!$B$17:$B$28, '🗃️ Database'!$C$17:$C$28))) -> 9.99 | I27: =_xlfn.SINGLE(IF($G27 = "", "", _xlfn.XLOOKUP($G27, '🗃️ Database'!$B$17:$B$28, '🗃️ Database'!$D$17:$D$28))) -> 11.99 | J27: =IF(I27="","",I27/H27-1) -> 0.2002002 | K27: =IF($G27="","",ROUND(($I27-$H27)*12,0)) -> 24
B28: ✍️ Grammarly | C28: =_xlfn.SINGLE(IF($B28 = "", "", _xlfn.XLOOKUP($B28, '📦 Subscriptions'!$B$6:$B$205, '📦 Subscriptions'!$M$6:$M$205))) -> #N/A | D28: =IF($B28 = "", "", ROUND(_xlfn.SINGLE(_xlfn.XLOOKUP($B28, '📦 Subscriptions'!$B$6:$B$205, '📦 Subscriptions'!$G$6:$G$205)) * IF(_xlfn.SINGLE(_xlfn.XLOOKUP($B28, '📦 Subscriptions'!$B$6:$B$205, '📦 Subscriptions'!$N$6:$N$205)) = "Switch to Annual", 0.2, 0.35), 2)) -> #N/A | E28: =IF($B28 = "", "", IF(_xlfn.SINGLE(_xlfn.XLOOKUP($B28, '📦 Subscriptions'!$B$6:$B$205, '📦 Subscriptions'!$N$6:$N$205)) = "Switch to Annual", "Move annual / seats audit", "Review lower tier")) -> #N/A | G28: 🎬 Netflix | H28: =_xlfn.SINGLE(IF($G28 = "", "", _xlfn.XLOOKUP($G28, '🗃️ Database'!$B$17:$B$28, '🗃️ Database'!$C$17:$C$28))) -> 13.99 | I28: =_xlfn.SINGLE(IF($G28 = "", "", _xlfn.XLOOKUP($G28, '🗃️ Database'!$B$17:$B$28, '🗃️ Database'!$D$17:$D$28))) -> 15.49 | J28: =IF(I28="","",I28/H28-1) -> 0.10721944 | K28: =IF($G28="","",ROUND(($I28-$H28)*12,0)) -> 18
C29: =_xlfn.SINGLE(IF($B29 = "", "", _xlfn.XLOOKUP($B29, '📦 Subscriptions'!$B$6:$B$205, '📦 Subscriptions'!$M$6:$M$205))) | D29: =IF($B29 = "", "", ROUND(_xlfn.SINGLE(_xlfn.XLOOKUP($B29, '📦 Subscriptions'!$B$6:$B$205, '📦 Subscriptions'!$G$6:$G$205)) * IF(_xlfn.SINGLE(_xlfn.XLOOKUP($B29, '📦 Subscriptions'!$B$6:$B$205, '📦 Subscriptions'!$N$6:$N$205)) = "Switch to Annual", 0.2, 0.35), 2)) | E29: =IF($B29 = "", "", IF(_xlfn.SINGLE(_xlfn.XLOOKUP($B29, '📦 Subscriptions'!$B$6:$B$205, '📦 Subscriptions'!$N$6:$N$205)) = "Switch to Annual", "Move annual / seats audit", "Review lower tier")) | H29: =_xlfn.SINGLE(IF($G29 = "", "", _xlfn.XLOOKUP($G29, '🗃️ Database'!$B$17:$B$28, '🗃️ Database'!$C$17:$C$28))) | I29: =_xlfn.SINGLE(IF($G29 = "", "", _xlfn.XLOOKUP($G29, '🗃️ Database'!$B$17:$B$28, '🗃️ Database'!$D$17:$D$28))) | J29: =IF(I29="","",I29/H29-1) | K29: =IF($G29="","",ROUND(($I29-$H29)*12,0))

Sheet 📈 Analytics
B2: Analytics | C2: Analytics | D2: Analytics | E2: Analytics | F2: Analytics | G2: Analytics | H2: Analytics | I2: Analytics | J2: Analytics | K2: Analytics | L2: Analytics | M2: Analytics | N2: Analytics | O2: Analytics | P2: Analytics | Q2: Analytics
B3: Category spend, cost growth, monthly trends, subscription ranking, top cost drivers, and forecast. | C3: Category spend, cost growth, monthly trends, subscription ranking, top cost drivers, and forecast. | D3: Category spend, cost growth, monthly trends, subscription ranking, top cost drivers, and forecast. | E3: Category spend, cost growth, monthly trends, subscription ranking, top cost drivers, and forecast. | F3: Category spend, cost growth, monthly trends, subscription ranking, top cost drivers, and forecast. | G3: Category spend, cost growth, monthly trends, subscription ranking, top cost drivers, and forecast. | H3: Category spend, cost growth, monthly trends, subscription ranking, top cost drivers, and forecast. | I3: Category spend, cost growth, monthly trends, subscription ranking, top cost drivers, and forecast. | J3: Category spend, cost growth, monthly trends, subscription ranking, top cost drivers, and forecast. | K3: Category spend, cost growth, monthly trends, subscription ranking, top cost drivers, and forecast. | L3: Category spend, cost growth, monthly trends, subscription ranking, top cost drivers, and forecast. | M3: Category spend, cost growth, monthly trends, subscription ranking, top cost drivers, and forecast. | N3: Category spend, cost growth, monthly trends, subscription ranking, top cost drivers, and forecast. | O3: Category spend, cost growth, monthly trends, subscription ranking, top cost drivers, and forecast. | P3: Category spend, cost growth, monthly trends, subscription ranking, top cost drivers, and forecast. | Q3: Category spend, cost growth, monthly trends, subscription ranking, top cost drivers, and forecast.
B5: Category Spend | C5: Category Spend | N5: Cost Growth | O5: Cost Growth | P5: Cost Growth | Q5: Cost Growth
B7: Category | C7: Monthly USD | N7: Metric | O7: Value | P7: Delta | Q7: Signal
B8: Software | C8: =SUMIFS('📦 Subscriptions'!$G$6:$G$205,'📦 Subscriptions'!$C$6:$C$205,$B8,'📦 Subscriptions'!$J$6:$J$205,"Active") -> 89.99 | N8: Current Monthly | O8: =SUMIFS('📦 Subscriptions'!$G$6:$G$205,'📦 Subscriptions'!$J$6:$J$205,"Active") -> 182.58 | P8: +5% | Q8: Rising
B9: Entertainment | C9: =SUMIFS('📦 Subscriptions'!$G$6:$G$205,'📦 Subscriptions'!$C$6:$C$205,$B9,'📦 Subscriptions'!$J$6:$J$205,"Active") -> 26.48 | N9: Annual Run Rate | O9: =O8*12 -> 2190.96 | P9: +12% | Q9: Watch
B10: Cloud | C10: =SUMIFS('📦 Subscriptions'!$G$6:$G$205,'📦 Subscriptions'!$C$6:$C$205,$B10,'📦 Subscriptions'!$J$6:$J$205,"Active") -> 14.98 | N10: Average Price | O10: =AVERAGEIF('📦 Subscriptions'!$J$6:$J$205,"Active",'📦 Subscriptions'!$G$6:$G$205) -> 16.598182 | P10: +3% | Q10: Stable
B11: Productivity | C11: =SUMIFS('📦 Subscriptions'!$G$6:$G$205,'📦 Subscriptions'!$C$6:$C$205,$B11,'📦 Subscriptions'!$J$6:$J$205,"Active") -> 30 | N11: Forecast Year-End | O11: 2616 | P11: +$528 | Q11: Review
B12: Utilities | C12: =SUMIFS('📦 Subscriptions'!$G$6:$G$205,'📦 Subscriptions'!$C$6:$C$205,$B12,'📦 Subscriptions'!$J$6:$J$205,"Active") -> 5.99 | N12: Savings Found | O12: ='💡 Optimization'!$B$6 -> #N/A | P12: +$763 | Q12: Positive
B13: Education | C13: =SUMIFS('📦 Subscriptions'!$G$6:$G$205,'📦 Subscriptions'!$C$6:$C$205,$B13,'📦 Subscriptions'!$J$6:$J$205,"Active") -> 15.14
B14: Other | C14: =SUMIFS('📦 Subscriptions'!$G$6:$G$205,'📦 Subscriptions'!$C$6:$C$205,$B14,'📦 Subscriptions'!$J$6:$J$205,"Active") -> 0
B22: Monthly Trends | C22: Monthly Trends | D22: Monthly Trends
B24: Month | C24: Spend | D24: Forecast
B25: Jan | C25: =INDEX('🗃️ Database'!$F$6:$Q$6,1,1) -> 174 | D25: =INDEX('🗃️ Database'!$F$9:$Q$9,1,1) -> 2088
B26: Feb | C26: =INDEX('🗃️ Database'!$F$6:$Q$6,1,2) -> 181 | D26: =INDEX('🗃️ Database'!$F$9:$Q$9,1,2) -> 2172
B27: Mar | C27: =INDEX('🗃️ Database'!$F$6:$Q$6,1,3) -> 185 | D27: =INDEX('🗃️ Database'!$F$9:$Q$9,1,3) -> 2220
B28: Apr | C28: =INDEX('🗃️ Database'!$F$6:$Q$6,1,4) -> 185 | D28: =INDEX('🗃️ Database'!$F$9:$Q$9,1,4) -> 2220
B29: May | C29: =INDEX('🗃️ Database'!$F$6:$Q$6,1,5) -> 194.58 | D29: =INDEX('🗃️ Database'!$F$9:$Q$9,1,5) -> 2334.96
B30: Jun | C30: =INDEX('🗃️ Database'!$F$6:$Q$6,1,6) -> 199 | D30: =INDEX('🗃️ Database'!$F$9:$Q$9,1,6) -> 2388
B31: Jul | C31: =INDEX('🗃️ Database'!$F$6:$Q$6,1,7) -> 202 | D31: =INDEX('🗃️ Database'!$F$9:$Q$9,1,7) -> 2424
B32: Aug | C32: =INDEX('🗃️ Database'!$F$6:$Q$6,1,8) -> 204 | D32: =INDEX('🗃️ Database'!$F$9:$Q$9,1,8) -> 2448
B33: Sep | C33: =INDEX('🗃️ Database'!$F$6:$Q$6,1,9) -> 203 | D33: =INDEX('🗃️ Database'!$F$9:$Q$9,1,9) -> 2436
B34: Oct | C34: =INDEX('🗃️ Database'!$F$6:$Q$6,1,10) -> 211 | D34: =INDEX('🗃️ Database'!$F$9:$Q$9,1,10) -> 2532
B35: Nov | C35: =INDEX('🗃️ Database'!$F$6:$Q$6,1,11) -> 214 | D35: =INDEX('🗃️ Database'!$F$9:$Q$9,1,11) -> 2568
B36: Dec | C36: =INDEX('🗃️ Database'!$F$6:$Q$6,1,12) -> 218 | D36: =INDEX('🗃️ Database'!$F$9:$Q$9,1,12) -> 2616
B40: Subscription Ranking | C40: Subscription Ranking | D40: Subscription Ranking | E40: Subscription Ranking | F40: Subscription Ranking | G40: Subscription Ranking
B42: Rank | C42: Service | D42: Category | E42: Monthly USD | F42: Utilization | G42: Driver
B43: 1 | C43: 💠 Adobe Creative Cloud | D43: Software | E43: 59.99 | F43: 0.84 | G43: Highest cost
B44: 2 | C44: 🤖 ChatGPT Plus | D44: Software | E44: 20 | F44: 0.93 | G44: High value
B45: 3 | C45: 🎨 Figma Professional | D45: Productivity | E45: 20 | F45: 0.67 | G45: Review billing
B46: 4 | C46: 🎬 Netflix | D46: Entertainment | E46: 15.49 | F46: 0.48 | G46: Low utilization
B47: 5 | C47: 🎓 Skillshare | D47: Education | E47: 15.14 | F47: 0.18 | G47: Unused
B48: 6 | C48: ✍️ Grammarly | D48: Productivity | E48: 12 | F48: 0.42 | G48: Downgrade
B49: 7 | C49: ☁️ Dropbox Plus | D49: Cloud | E49: 11.99 | F49: 0.52 | G49: Plan sizing
B50: 8 | C50: 🎧 Spotify | D50: Entertainment | E50: 10.99 | F50: 0.76 | G50: Stable
B51: 9 | C51: 🧠 Notion Plus | D51: Productivity | E51: 10 | F51: 0.78 | G51: Stable
B52: 10 | C52: </> GitHub Copilot | D52: Software | E52: 10 | F52: 0.88 | G52: High value
B53: 11 | C53: 🔐 NordVPN | D53: Utilities | E53: 5.99 | F53: 0.31 | G53: Unused risk
B54: 12 | C54: ☁️ iCloud+ | D54: Cloud | E54: 2.99 | F54: 0.96 | G54: Low cost

Sheet ⚙️ Settings
